BEGIN:VCALENDAR
VERSION:2.0
PRODID:-//Snowline - ECPv6.15.20//NONSGML v1.0//EN
CALSCALE:GREGORIAN
METHOD:PUBLISH
X-WR-CALNAME:Snowline
X-ORIGINAL-URL:https://snowlinehealth.org
X-WR-CALDESC:Events for Snowline
REFRESH-INTERVAL;VALUE=DURATION:PT1H
X-Robots-Tag:noindex
X-PUBLISHED-TTL:PT1H
BEGIN:VTIMEZONE
TZID:America/Los_Angeles
BEGIN:DAYLIGHT
TZOFFSETFROM:-0800
TZOFFSETTO:-0700
TZNAME:PDT
DTSTART:20230312T100000
END:DAYLIGHT
BEGIN:STANDARD
TZOFFSETFROM:-0700
TZOFFSETTO:-0800
TZNAME:PST
DTSTART:20231105T090000
END:STANDARD
BEGIN:DAYLIGHT
TZOFFSETFROM:-0800
TZOFFSETTO:-0700
TZNAME:PDT
DTSTART:20240310T100000
END:DAYLIGHT
BEGIN:STANDARD
TZOFFSETFROM:-0700
TZOFFSETTO:-0800
TZNAME:PST
DTSTART:20241103T090000
END:STANDARD
BEGIN:DAYLIGHT
TZOFFSETFROM:-0800
TZOFFSETTO:-0700
TZNAME:PDT
DTSTART:20250309T100000
END:DAYLIGHT
BEGIN:STANDARD
TZOFFSETFROM:-0700
TZOFFSETTO:-0800
TZNAME:PST
DTSTART:20251102T090000
END:STANDARD
END:VTIMEZONE
BEGIN:VEVENT
DTSTART;TZID=America/Los_Angeles:20241115T103000
DTEND;TZID=America/Los_Angeles:20241115T120000
DTSTAMP:20260419T051722
CREATED:20241106T211656Z
LAST-MODIFIED:20241106T211656Z
UID:14983-1731666600-1731672000@snowlinehealth.org
SUMMARY:JOURNEYS ~ WALKING GROUP
DESCRIPTION:
URL:https://snowlinehealth.org/events/journeys-walking-group-4/
END:VEVENT
BEGIN:VEVENT
DTSTART;TZID=America/Los_Angeles:20241115T133000
DTEND;TZID=America/Los_Angeles:20241115T150000
DTSTAMP:20260419T051722
CREATED:20241106T211609Z
LAST-MODIFIED:20241106T211609Z
UID:14981-1731677400-1731682800@snowlinehealth.org
SUMMARY:DIAMOND SPRINGS ~ HOLIDAY GRIEF SUPPORT GROUP
DESCRIPTION:
URL:https://snowlinehealth.org/events/diamond-springs-holiday-grief-support-group/
LOCATION:Snowline Health Clinical Office\, Diamond Springs\, 6520 Pleasant Valley Road\, Diamond Springs\, California\, 95619\, United States
END:VEVENT
END:VCALENDAR