BEGIN:VCALENDAR
VERSION:2.0
PRODID:-//Snowline - ECPv6.15.20//NONSGML v1.0//EN
CALSCALE:GREGORIAN
METHOD:PUBLISH
X-WR-CALNAME:Snowline
X-ORIGINAL-URL:https://snowlinehealth.org
X-WR-CALDESC:Events for Snowline
REFRESH-INTERVAL;VALUE=DURATION:PT1H
X-Robots-Tag:noindex
X-PUBLISHED-TTL:PT1H
BEGIN:VTIMEZONE
TZID:America/Los_Angeles
BEGIN:DAYLIGHT
TZOFFSETFROM:-0800
TZOFFSETTO:-0700
TZNAME:PDT
DTSTART:20230312T100000
END:DAYLIGHT
BEGIN:STANDARD
TZOFFSETFROM:-0700
TZOFFSETTO:-0800
TZNAME:PST
DTSTART:20231105T090000
END:STANDARD
BEGIN:DAYLIGHT
TZOFFSETFROM:-0800
TZOFFSETTO:-0700
TZNAME:PDT
DTSTART:20240310T100000
END:DAYLIGHT
BEGIN:STANDARD
TZOFFSETFROM:-0700
TZOFFSETTO:-0800
TZNAME:PST
DTSTART:20241103T090000
END:STANDARD
BEGIN:DAYLIGHT
TZOFFSETFROM:-0800
TZOFFSETTO:-0700
TZNAME:PDT
DTSTART:20250309T100000
END:DAYLIGHT
BEGIN:STANDARD
TZOFFSETFROM:-0700
TZOFFSETTO:-0800
TZNAME:PST
DTSTART:20251102T090000
END:STANDARD
END:VTIMEZONE
BEGIN:VEVENT
DTSTART;TZID=America/Los_Angeles:20241027T140000
DTEND;TZID=America/Los_Angeles:20241027T160000
DTSTAMP:20260419T051717
CREATED:20241007T225343Z
LAST-MODIFIED:20241007T225424Z
UID:14766-1730037600-1730044800@snowlinehealth.org
SUMMARY:Snowline Keys Bags Names Words Movie Showing
DESCRIPTION:This uplifting and FREE Keys Bags Names Words documentary is a quirky and inspiring lens portraying stories of the personal and global impacts of Alzheimer’s disease and other forms of dementia. It follows a cohort of young scientists and artists from around the world as they harness every aspect of creativity\, humor and compassion to lead the way towards hope and resilience.  This movie is filled with hope\, compassion and grace!
URL:https://snowlinehealth.org/events/https-snowlinehealth-org-snowline-dementia-education/
LOCATION:Camino SDA Church\, 3520 Carson Road\, Camino\, CA\, 95709\, United States
ORGANIZER;CN="Snowline Dementia Connection":MAILTO:mclark@snowlinehospice.org
END:VEVENT
END:VCALENDAR