BEGIN:VCALENDAR
VERSION:2.0
PRODID:-//Snowline - ECPv6.15.20//NONSGML v1.0//EN
CALSCALE:GREGORIAN
METHOD:PUBLISH
X-WR-CALNAME:Snowline
X-ORIGINAL-URL:https://snowlinehealth.org
X-WR-CALDESC:Events for Snowline
REFRESH-INTERVAL;VALUE=DURATION:PT1H
X-Robots-Tag:noindex
X-PUBLISHED-TTL:PT1H
BEGIN:VTIMEZONE
TZID:America/Denver
BEGIN:DAYLIGHT
TZOFFSETFROM:-0700
TZOFFSETTO:-0600
TZNAME:MDT
DTSTART:20230312T090000
END:DAYLIGHT
BEGIN:STANDARD
TZOFFSETFROM:-0600
TZOFFSETTO:-0700
TZNAME:MST
DTSTART:20231105T080000
END:STANDARD
BEGIN:DAYLIGHT
TZOFFSETFROM:-0700
TZOFFSETTO:-0600
TZNAME:MDT
DTSTART:20240310T090000
END:DAYLIGHT
BEGIN:STANDARD
TZOFFSETFROM:-0600
TZOFFSETTO:-0700
TZNAME:MST
DTSTART:20241103T080000
END:STANDARD
BEGIN:DAYLIGHT
TZOFFSETFROM:-0700
TZOFFSETTO:-0600
TZNAME:MDT
DTSTART:20250309T090000
END:DAYLIGHT
BEGIN:STANDARD
TZOFFSETFROM:-0600
TZOFFSETTO:-0700
TZNAME:MST
DTSTART:20251102T080000
END:STANDARD
END:VTIMEZONE
BEGIN:VEVENT
DTSTART;TZID=America/Denver:20241024T180000
DTEND;TZID=America/Denver:20241024T193000
DTSTAMP:20260419T064148
CREATED:20241007T195018Z
LAST-MODIFIED:20241007T202430Z
UID:14735-1729792800-1729798200@snowlinehealth.org
SUMMARY:EVENING VIRTUAL ~ GRIEF SUPPORT GROUP
DESCRIPTION:
URL:https://snowlinehealth.org/events/evening-virtual-grief-support-group-2/
END:VEVENT
END:VCALENDAR